BEGIN:VCALENDAR
VERSION:2.0
PRODID:-//Bournemouth Bach Choir - ECPv6.15.20//NONSGML v1.0//EN
CALSCALE:GREGORIAN
METHOD:PUBLISH
X-ORIGINAL-URL:https://bournemouthbachchoir.uk
X-WR-CALDESC:Events for Bournemouth Bach Choir
REFRESH-INTERVAL;VALUE=DURATION:PT1H
X-Robots-Tag:noindex
X-PUBLISHED-TTL:PT1H
BEGIN:VTIMEZONE
TZID:Europe/London
BEGIN:DAYLIGHT
TZOFFSETFROM:+0000
TZOFFSETTO:+0100
TZNAME:BST
DTSTART:20230326T010000
END:DAYLIGHT
BEGIN:STANDARD
TZOFFSETFROM:+0100
TZOFFSETTO:+0000
TZNAME:GMT
DTSTART:20231029T010000
END:STANDARD
BEGIN:DAYLIGHT
TZOFFSETFROM:+0000
TZOFFSETTO:+0100
TZNAME:BST
DTSTART:20240331T010000
END:DAYLIGHT
BEGIN:STANDARD
TZOFFSETFROM:+0100
TZOFFSETTO:+0000
TZNAME:GMT
DTSTART:20241027T010000
END:STANDARD
BEGIN:DAYLIGHT
TZOFFSETFROM:+0000
TZOFFSETTO:+0100
TZNAME:BST
DTSTART:20250330T010000
END:DAYLIGHT
BEGIN:STANDARD
TZOFFSETFROM:+0100
TZOFFSETTO:+0000
TZNAME:GMT
DTSTART:20251026T010000
END:STANDARD
END:VTIMEZONE
BEGIN:VEVENT
DTSTART;TZID=Europe/London:20241116T193000
DTEND;TZID=Europe/London:20241116T213000
DTSTAMP:20260422T225837
CREATED:20240120T091245Z
LAST-MODIFIED:20241018T143522Z
UID:7316-1731785400-1731792600@bournemouthbachchoir.uk
SUMMARY:November 2024 concert: Fauré & Duruflé Requiem
DESCRIPTION:Musical Director Tim Hooper is delighted to bring these works to the fantastic Christchurch Priory. \nImmerse yourself in the enchanting harmonies of beloved choral masterpieces. Join us for an unforgettable evening of timeless classics; let the power of choral music stir your soul. \n \nTickets are available from Christchurch Priory Box Office. \nThe concert poster can be downloaded in PDF here. \nMusical Director\, Tim Hooper\, has said: “November 4th this year marks the 100th year since Fauré’s death. In celebration Bournemouth Bach Choir and Orchestra are performing\, perhaps his most-loved work\, the Requiem op. 48\, alongside his sublime Cantique de Jean Racine. Performing with us will be our fabulous chamber orchestra and Jade Moffat (mezzo) and Jonathan Prentice (baritone). We will also perform Duruflé’s glorious Requiem op. 9 with virtuoso organist Sam Hanson.“
URL:https://bournemouthbachchoir.uk/events/november-2024-concert/
LOCATION:Christchurch Priory\, Quay Road\, Christchurch\, Dorset\, BH23 1BU\, United Kingdom
CATEGORIES:Concerts
END:VEVENT
BEGIN:VEVENT
DTSTART;TZID=Europe/London:20241110T193000
DTEND;TZID=Europe/London:20241110T213000
DTSTAMP:20260422T225837
CREATED:20240909T142105Z
LAST-MODIFIED:20240909T184035Z
UID:7453-1731267000-1731274200@bournemouthbachchoir.uk
SUMMARY:rehearsal for November concert (piano rehearsal)
DESCRIPTION:
URL:https://bournemouthbachchoir.uk/events/rehearsal-for-november-concert-piano-rehearsal/
LOCATION:St Luke’s Church Hall\, St Luke's Road\, Winton\, Bournemouth\, BH3 7LR
CATEGORIES:Rehearsals
END:VEVENT
BEGIN:VEVENT
DTSTART;TZID=Europe/London:20241103T193000
DTEND;TZID=Europe/London:20241103T213000
DTSTAMP:20260422T225837
CREATED:20240909T142036Z
LAST-MODIFIED:20240909T184025Z
UID:7451-1730662200-1730669400@bournemouthbachchoir.uk
SUMMARY:rehearsal for November concert
DESCRIPTION:
URL:https://bournemouthbachchoir.uk/events/rehearsal-for-november-concert-14/
LOCATION:St Luke’s Church Hall\, St Luke's Road\, Winton\, Bournemouth\, BH3 7LR
CATEGORIES:Rehearsals
END:VEVENT
BEGIN:VEVENT
DTSTART;TZID=Europe/London:20241020T193000
DTEND;TZID=Europe/London:20241020T213000
DTSTAMP:20260422T225837
CREATED:20240909T142013Z
LAST-MODIFIED:20240909T184004Z
UID:7449-1729452600-1729459800@bournemouthbachchoir.uk
SUMMARY:rehearsal for November concert
DESCRIPTION:
URL:https://bournemouthbachchoir.uk/events/rehearsal-for-november-concert-13/
LOCATION:St Luke’s Church Hall\, St Luke's Road\, Winton\, Bournemouth\, BH3 7LR
CATEGORIES:Rehearsals
END:VEVENT
BEGIN:VEVENT
DTSTART;TZID=Europe/London:20241013T193000
DTEND;TZID=Europe/London:20241013T213000
DTSTAMP:20260422T225837
CREATED:20240909T141945Z
LAST-MODIFIED:20240909T183954Z
UID:7447-1728847800-1728855000@bournemouthbachchoir.uk
SUMMARY:rehearsal for November concert
DESCRIPTION:
URL:https://bournemouthbachchoir.uk/events/rehearsal-for-november-concert-12/
LOCATION:St Luke’s Church Hall\, St Luke's Road\, Winton\, Bournemouth\, BH3 7LR
CATEGORIES:Rehearsals
END:VEVENT
BEGIN:VEVENT
DTSTART;TZID=Europe/London:20241006T193000
DTEND;TZID=Europe/London:20241006T213000
DTSTAMP:20260422T225837
CREATED:20240909T141922Z
LAST-MODIFIED:20240909T183945Z
UID:7445-1728243000-1728250200@bournemouthbachchoir.uk
SUMMARY:rehearsal for November concert
DESCRIPTION:
URL:https://bournemouthbachchoir.uk/events/rehearsal-for-november-concert-11/
LOCATION:St Luke’s Church Hall\, St Luke's Road\, Winton\, Bournemouth\, BH3 7LR
CATEGORIES:Rehearsals
END:VEVENT
BEGIN:VEVENT
DTSTART;TZID=Europe/London:20240929T193000
DTEND;TZID=Europe/London:20240929T213000
DTSTAMP:20260422T225837
CREATED:20240909T141851Z
LAST-MODIFIED:20240909T183934Z
UID:7443-1727638200-1727645400@bournemouthbachchoir.uk
SUMMARY:rehearsal for November concert
DESCRIPTION:
URL:https://bournemouthbachchoir.uk/events/rehearsal-for-november-concert-10/
LOCATION:St Luke’s Church Hall\, St Luke's Road\, Winton\, Bournemouth\, BH3 7LR
CATEGORIES:Rehearsals
END:VEVENT
BEGIN:VEVENT
DTSTART;TZID=Europe/London:20240922T193000
DTEND;TZID=Europe/London:20240922T213000
DTSTAMP:20260422T225837
CREATED:20240909T141200Z
LAST-MODIFIED:20240909T183924Z
UID:7441-1727033400-1727040600@bournemouthbachchoir.uk
SUMMARY:rehearsal for November concert
DESCRIPTION:
URL:https://bournemouthbachchoir.uk/events/rehearsal-for-november-concert-9/
LOCATION:St Luke’s Church Hall\, St Luke's Road\, Winton\, Bournemouth\, BH3 7LR
CATEGORIES:Rehearsals
END:VEVENT
BEGIN:VEVENT
DTSTART;TZID=Europe/London:20240915T193000
DTEND;TZID=Europe/London:20240915T213000
DTSTAMP:20260422T225837
CREATED:20240909T141117Z
LAST-MODIFIED:20240909T183906Z
UID:7439-1726428600-1726435800@bournemouthbachchoir.uk
SUMMARY:rehearsal for November concert
DESCRIPTION:
URL:https://bournemouthbachchoir.uk/events/rehearsal-for-november-concert-8/
LOCATION:St Luke’s Church Hall\, St Luke's Road\, Winton\, Bournemouth\, BH3 7LR
CATEGORIES:Rehearsals
END:VEVENT
BEGIN:VEVENT
DTSTART;TZID=Europe/London:20240908T193000
DTEND;TZID=Europe/London:20240908T213000
DTSTAMP:20260422T225837
CREATED:20240205T200918Z
LAST-MODIFIED:20240205T200918Z
UID:7352-1725823800-1725831000@bournemouthbachchoir.uk
SUMMARY:Rehearsal for November concert
DESCRIPTION:
URL:https://bournemouthbachchoir.uk/events/rehearsal-november-concert/
LOCATION:St Luke’s Church Hall\, St Luke's Road\, Winton\, Bournemouth\, BH3 7LR
CATEGORIES:Rehearsals
END:VEVENT
BEGIN:VEVENT
DTSTART;TZID=Europe/London:20240714T193000
DTEND;TZID=Europe/London:20240714T213000
DTSTAMP:20260422T225837
CREATED:20240619T092019Z
LAST-MODIFIED:20240619T092019Z
UID:7420-1720985400-1720992600@bournemouthbachchoir.uk
SUMMARY:Fundraising Quiz
DESCRIPTION:  \nSt Luke’s Church Hall\nSt Luke’s Road\, Winton\, BH3 7LR\nIncludes coffee or tea and home made cake\nBYO alcohol\nAll welcome! Teams of six (can be made up on the night).\nMoney raised will help fund amazing concerts\nTickets (£10 for adults\, under 18s free) at Choir Rehearsals\nor email choir.treasurer@bournemouthbachchoir.uk
URL:https://bournemouthbachchoir.uk/events/fundraising-quiz/
LOCATION:St Luke’s Church Hall\, St Luke's Road\, Winton\, Bournemouth\, BH3 7LR
CATEGORIES:Fundraising
END:VEVENT
BEGIN:VEVENT
DTSTART;TZID=Europe/London:20240706T193000
DTEND;TZID=Europe/London:20240706T213000
DTSTAMP:20260422T225837
CREATED:20230724T092604Z
LAST-MODIFIED:20240601T101742Z
UID:7226-1720294200-1720301400@bournemouthbachchoir.uk
SUMMARY:Classical Splendour: Mozart\, Vivaldi\, Handel\, Bach\, Haydn & Zelenka
DESCRIPTION:Come and hear some popular classics in the beautiful surroundings of Christchurch Priory: Handel’s Arrival of the Queen of Sheba\, Mozart’s Eine Kleine Nachtmusik\, Bach’s Jesu Joy and Vivaldi’s Magnificat along with other works by Handel\, Haydn and Zelenka. What better way to spend a summer’s evening!\n\nTickets are available from Christchurch Priory Box Office\, click here to be redirected.
URL:https://bournemouthbachchoir.uk/events/classical-splendour-mozart-vivaldi-handel-bach-haydn-zelenka/
LOCATION:Christchurch Priory\, Quay Road\, Christchurch\, Dorset\, BH23 1BU\, United Kingdom
CATEGORIES:Concerts
END:VEVENT
BEGIN:VEVENT
DTSTART;TZID=Europe/London:20240630T193000
DTEND;TZID=Europe/London:20240630T213000
DTSTAMP:20260422T225837
CREATED:20240205T200747Z
LAST-MODIFIED:20240205T200747Z
UID:7350-1719775800-1719783000@bournemouthbachchoir.uk
SUMMARY:Piano rehearsal for July concert
DESCRIPTION:Compulsory: exemptions must be sought from Tim (MD) via Sue (attendance secretary)
URL:https://bournemouthbachchoir.uk/events/piano-rehearsal-for-july-concert/
LOCATION:St Luke’s Church Hall\, St Luke's Road\, Winton\, Bournemouth\, BH3 7LR
CATEGORIES:Rehearsals
END:VEVENT
BEGIN:VEVENT
DTSTART;TZID=Europe/London:20240623T193000
DTEND;TZID=Europe/London:20240623T213000
DTSTAMP:20260422T225837
CREATED:20240205T200559Z
LAST-MODIFIED:20240205T200559Z
UID:7348-1719171000-1719178200@bournemouthbachchoir.uk
SUMMARY:Rehearsal for July concert
DESCRIPTION:
URL:https://bournemouthbachchoir.uk/events/rehearsal-for-july-concert-8/
LOCATION:St Luke’s Church Hall\, St Luke's Road\, Winton\, Bournemouth\, BH3 7LR
CATEGORIES:Rehearsals
END:VEVENT
BEGIN:VEVENT
DTSTART;TZID=Europe/London:20240616T193000
DTEND;TZID=Europe/London:20240616T213000
DTSTAMP:20260422T225837
CREATED:20240205T200528Z
LAST-MODIFIED:20240205T200528Z
UID:7346-1718566200-1718573400@bournemouthbachchoir.uk
SUMMARY:Rehearsal for July concert
DESCRIPTION:
URL:https://bournemouthbachchoir.uk/events/rehearsal-for-july-concert-7/
LOCATION:St Luke’s Church Hall\, St Luke's Road\, Winton\, Bournemouth\, BH3 7LR
CATEGORIES:Rehearsals
END:VEVENT
BEGIN:VEVENT
DTSTART;TZID=Europe/London:20240609T193000
DTEND;TZID=Europe/London:20240609T213000
DTSTAMP:20260422T225837
CREATED:20240205T200456Z
LAST-MODIFIED:20240205T200456Z
UID:7344-1717961400-1717968600@bournemouthbachchoir.uk
SUMMARY:Rehearsal for July concert
DESCRIPTION:
URL:https://bournemouthbachchoir.uk/events/rehearsal-for-july-concert-6/
LOCATION:St Luke’s Church Hall\, St Luke's Road\, Winton\, Bournemouth\, BH3 7LR
CATEGORIES:Rehearsals
END:VEVENT
BEGIN:VEVENT
DTSTART;TZID=Europe/London:20240602T193000
DTEND;TZID=Europe/London:20240602T213000
DTSTAMP:20260422T225837
CREATED:20240205T200428Z
LAST-MODIFIED:20240205T200428Z
UID:7342-1717356600-1717363800@bournemouthbachchoir.uk
SUMMARY:Rehearsal for July concert
DESCRIPTION:
URL:https://bournemouthbachchoir.uk/events/rehearsal-for-july-concert-5/
LOCATION:St Luke’s Church Hall\, St Luke's Road\, Winton\, Bournemouth\, BH3 7LR
CATEGORIES:Rehearsals
END:VEVENT
BEGIN:VEVENT
DTSTART;TZID=Europe/London:20240519T193000
DTEND;TZID=Europe/London:20240519T213000
DTSTAMP:20260422T225837
CREATED:20240205T200310Z
LAST-MODIFIED:20240205T200310Z
UID:7339-1716147000-1716154200@bournemouthbachchoir.uk
SUMMARY:Rehearsal for July concert
DESCRIPTION:note no rehearsal next week (26th)
URL:https://bournemouthbachchoir.uk/events/rehearsal-for-july-concert-4/
LOCATION:St Luke’s Church Hall\, St Luke's Road\, Winton\, Bournemouth\, BH3 7LR
CATEGORIES:Rehearsals
END:VEVENT
BEGIN:VEVENT
DTSTART;TZID=Europe/London:20240512T193000
DTEND;TZID=Europe/London:20240512T213000
DTSTAMP:20260422T225837
CREATED:20240205T200229Z
LAST-MODIFIED:20240205T200229Z
UID:7337-1715542200-1715549400@bournemouthbachchoir.uk
SUMMARY:Rehearsal for July concert
DESCRIPTION:
URL:https://bournemouthbachchoir.uk/events/rehearsal-for-july-concert-3/
LOCATION:St Luke’s Church Hall\, St Luke's Road\, Winton\, Bournemouth\, BH3 7LR
CATEGORIES:Rehearsals
END:VEVENT
BEGIN:VEVENT
DTSTART;TZID=Europe/London:20240428T193000
DTEND;TZID=Europe/London:20240428T213000
DTSTAMP:20260422T225837
CREATED:20240205T200201Z
LAST-MODIFIED:20240205T200348Z
UID:7335-1714332600-1714339800@bournemouthbachchoir.uk
SUMMARY:Rehearsal for July concert
DESCRIPTION:note no rehearsal next week on 5th May
URL:https://bournemouthbachchoir.uk/events/rehearsal-for-july-concert-2/
LOCATION:St Luke’s Church Hall\, St Luke's Road\, Winton\, Bournemouth\, BH3 7LR
CATEGORIES:Rehearsals
END:VEVENT
BEGIN:VEVENT
DTSTART;TZID=Europe/London:20240421T193000
DTEND;TZID=Europe/London:20240421T213000
DTSTAMP:20260422T225837
CREATED:20240205T200054Z
LAST-MODIFIED:20240205T200054Z
UID:7333-1713727800-1713735000@bournemouthbachchoir.uk
SUMMARY:Rehearsal for July concert
DESCRIPTION:
URL:https://bournemouthbachchoir.uk/events/rehearsal-for-july-concert/
LOCATION:St Luke’s Church Hall\, St Luke's Road\, Winton\, Bournemouth\, BH3 7LR
CATEGORIES:Rehearsals
END:VEVENT
BEGIN:VEVENT
DTSTART;TZID=Europe/London:20240420T190000
DTEND;TZID=Europe/London:20240420T211500
DTSTAMP:20260422T225837
CREATED:20240304T100136Z
LAST-MODIFIED:20240417T140931Z
UID:7360-1713639600-1713647700@bournemouthbachchoir.uk
SUMMARY:Memorial Concert: in memory of Canon Dick Jones\, co-founder of Bournemouth Bach Choir
DESCRIPTION:Bournemouth Bach Choir are honoured to perform in memory of Canon Dick Jones who co-founded our choir. Our musical director and committee have liaised with the family to agree a delightful programme of music. \nThis performance has free admission\, with a retiring collection in aid of ‘Family for Every Child’ and St. Andrew’s Church Fabric Repair Fund. \nProgramme to include: \n\nHandel Hallelujah Chorus\nWood O Thou\, the Central Orb\nFauré Cantique de Jean Racine\nWesley Blessed be the God and Father\nBalfour Gardiner Evening Hymn\nElgar Ave verum\nBrahms How lovely are thy dwellings\nMendelssohn Hear my prayer (‘O for the wings’)
URL:https://bournemouthbachchoir.uk/events/memorial-concert-dick-jones/
LOCATION:St Andrew’s Church\, 40 Church St\, Fontmell Magna\,\, Shaftesbury\, SP7 0NY\, United Kingdom
CATEGORIES:Concerts
END:VEVENT
BEGIN:VEVENT
DTSTART;TZID=Europe/London:20240414T193000
DTEND;TZID=Europe/London:20240414T213000
DTSTAMP:20260422T225837
CREATED:20240205T200003Z
LAST-MODIFIED:20240205T200003Z
UID:7331-1713123000-1713130200@bournemouthbachchoir.uk
SUMMARY:Rehearsal for July concert inc special rehearsal
DESCRIPTION:Sing through for July concert\nand go over music for Dick’s Memorial concert on Saturday 20th April
URL:https://bournemouthbachchoir.uk/events/rehearsal-for-july-concert-inc-special-rehearsal/
LOCATION:St Luke’s Church Hall\, St Luke's Road\, Winton\, Bournemouth\, BH3 7LR
CATEGORIES:Rehearsals
END:VEVENT
BEGIN:VEVENT
DTSTART;TZID=Europe/London:20240324T193000
DTEND;TZID=Europe/London:20240324T213000
DTSTAMP:20260422T225837
CREATED:20240205T195829Z
LAST-MODIFIED:20240205T195829Z
UID:7329-1711308600-1711315800@bournemouthbachchoir.uk
SUMMARY:special rehearsal
DESCRIPTION:return your cleaned music (free of pencilled marks) when you come to the rehearsal on 24th March\nrehearsal for Dick Jones memorial concert\ncollect music for the summer concert\n\n 
URL:https://bournemouthbachchoir.uk/events/special-rehearsal/
LOCATION:St Luke’s Church Hall\, St Luke's Road\, Winton\, Bournemouth\, BH3 7LR
CATEGORIES:Rehearsals
END:VEVENT
BEGIN:VEVENT
DTSTART;TZID=Europe/London:20240316T193000
DTEND;TZID=Europe/London:20240316T213000
DTSTAMP:20260422T225837
CREATED:20230724T092428Z
LAST-MODIFIED:20240129T194015Z
UID:7223-1710617400-1710624600@bournemouthbachchoir.uk
SUMMARY:Bach Magnificat and Ascension Oratorio
DESCRIPTION:
URL:https://bournemouthbachchoir.uk/events/bach-magnificat-and-ascension-oratorio/
LOCATION:Christchurch Priory\, Quay Road\, Christchurch\, Dorset\, BH23 1BU\, United Kingdom
CATEGORIES:Concerts
END:VEVENT
BEGIN:VEVENT
DTSTART;TZID=Europe/London:20240316T130000
DTEND;TZID=Europe/London:20240316T150000
DTSTAMP:20260422T225837
CREATED:20240209T103745Z
LAST-MODIFIED:20240209T103745Z
UID:7357-1710594000-1710601200@bournemouthbachchoir.uk
SUMMARY:rehearsal for tonight
DESCRIPTION:Please arrive quietly at 1pm and you will be directed to your seats.\nAfternoon rehearsal in the Priory 1.15pm to 2.40pm.\nTim will already be rehearsing to a very tight schedule\, so as little disturbance as possible please!
URL:https://bournemouthbachchoir.uk/events/rehearsal-for-tonight/
LOCATION:Christchurch Priory\, Quay Road\, Christchurch\, Dorset\, BH23 1BU\, United Kingdom
CATEGORIES:Rehearsals
END:VEVENT
BEGIN:VEVENT
DTSTART;TZID=Europe/London:20240310T193000
DTEND;TZID=Europe/London:20240310T213000
DTSTAMP:20260422T225837
CREATED:20231213T092413Z
LAST-MODIFIED:20231213T092413Z
UID:7288-1710099000-1710106200@bournemouthbachchoir.uk
SUMMARY:Piano Rehearsal for March concert
DESCRIPTION:Attendance is compulsory unless approved by the MD
URL:https://bournemouthbachchoir.uk/events/piano-rehearsal-for-march-concert/
LOCATION:St Luke’s Church Hall\, St Luke's Road\, Winton\, Bournemouth\, BH3 7LR
CATEGORIES:Rehearsals
END:VEVENT
BEGIN:VEVENT
DTSTART;TZID=Europe/London:20240303T193000
DTEND;TZID=Europe/London:20240303T213000
DTSTAMP:20260422T225837
CREATED:20231213T092320Z
LAST-MODIFIED:20231213T092320Z
UID:7286-1709494200-1709501400@bournemouthbachchoir.uk
SUMMARY:Rehearsal for March concert
DESCRIPTION:
URL:https://bournemouthbachchoir.uk/events/rehearsal-for-march-concert-8/
LOCATION:St Luke’s Church Hall\, St Luke's Road\, Winton\, Bournemouth\, BH3 7LR
CATEGORIES:Rehearsals
END:VEVENT
BEGIN:VEVENT
DTSTART;TZID=Europe/London:20240225T193000
DTEND;TZID=Europe/London:20240225T213000
DTSTAMP:20260422T225837
CREATED:20231213T092247Z
LAST-MODIFIED:20231213T092247Z
UID:7284-1708889400-1708896600@bournemouthbachchoir.uk
SUMMARY:Rehearsal for March concert
DESCRIPTION:
URL:https://bournemouthbachchoir.uk/events/rehearsal-for-march-concert-7/
LOCATION:St Luke’s Church Hall\, St Luke's Road\, Winton\, Bournemouth\, BH3 7LR
CATEGORIES:Rehearsals
END:VEVENT
BEGIN:VEVENT
DTSTART;TZID=Europe/London:20240218T193000
DTEND;TZID=Europe/London:20240218T213000
DTSTAMP:20260422T225837
CREATED:20231213T092222Z
LAST-MODIFIED:20231213T092222Z
UID:7282-1708284600-1708291800@bournemouthbachchoir.uk
SUMMARY:Rehearsal for March concert
DESCRIPTION:
URL:https://bournemouthbachchoir.uk/events/rehearsal-for-march-concert-6/
LOCATION:St Luke’s Church Hall\, St Luke's Road\, Winton\, Bournemouth\, BH3 7LR
CATEGORIES:Rehearsals
END:VEVENT
END:VCALENDAR