BEGIN:VCALENDAR
VERSION:2.0
PRODID:-//Bournemouth Bach Choir - ECPv6.15.20//NONSGML v1.0//EN
CALSCALE:GREGORIAN
METHOD:PUBLISH
X-ORIGINAL-URL:https://bournemouthbachchoir.uk
X-WR-CALDESC:Events for Bournemouth Bach Choir
REFRESH-INTERVAL;VALUE=DURATION:PT1H
X-Robots-Tag:noindex
X-PUBLISHED-TTL:PT1H
BEGIN:VTIMEZONE
TZID:Europe/London
BEGIN:DAYLIGHT
TZOFFSETFROM:+0000
TZOFFSETTO:+0100
TZNAME:BST
DTSTART:20230326T010000
END:DAYLIGHT
BEGIN:STANDARD
TZOFFSETFROM:+0100
TZOFFSETTO:+0000
TZNAME:GMT
DTSTART:20231029T010000
END:STANDARD
BEGIN:DAYLIGHT
TZOFFSETFROM:+0000
TZOFFSETTO:+0100
TZNAME:BST
DTSTART:20240331T010000
END:DAYLIGHT
BEGIN:STANDARD
TZOFFSETFROM:+0100
TZOFFSETTO:+0000
TZNAME:GMT
DTSTART:20241027T010000
END:STANDARD
BEGIN:DAYLIGHT
TZOFFSETFROM:+0000
TZOFFSETTO:+0100
TZNAME:BST
DTSTART:20250330T010000
END:DAYLIGHT
BEGIN:STANDARD
TZOFFSETFROM:+0100
TZOFFSETTO:+0000
TZNAME:GMT
DTSTART:20251026T010000
END:STANDARD
BEGIN:DAYLIGHT
TZOFFSETFROM:+0000
TZOFFSETTO:+0100
TZNAME:BST
DTSTART:20260329T010000
END:DAYLIGHT
BEGIN:STANDARD
TZOFFSETFROM:+0100
TZOFFSETTO:+0000
TZNAME:GMT
DTSTART:20261025T010000
END:STANDARD
END:VTIMEZONE
BEGIN:VEVENT
DTSTART;TZID=Europe/London:20250907T193000
DTEND;TZID=Europe/London:20250907T213000
DTSTAMP:20260422T105647
CREATED:20250520T081753Z
LAST-MODIFIED:20250520T081753Z
UID:7615-1757273400-1757280600@bournemouthbachchoir.uk
SUMMARY:rehearsal for November 2025 concert
DESCRIPTION:This is the first rehearsal for the Autumn term. Hope to see you there!
URL:https://bournemouthbachchoir.uk/events/rehearsal-for-november-2025-concert/
LOCATION:St Luke’s Church Hall\, St Luke's Road\, Winton\, Bournemouth\, BH3 7LR
CATEGORIES:Rehearsals
END:VEVENT
BEGIN:VEVENT
DTSTART;TZID=Europe/London:20250608T193000
DTEND;TZID=Europe/London:20250608T213000
DTSTAMP:20260422T105647
CREATED:20250114T092833Z
LAST-MODIFIED:20250114T092833Z
UID:7561-1749411000-1749418200@bournemouthbachchoir.uk
SUMMARY:piano rehearsal for June 2025 concert
DESCRIPTION:
URL:https://bournemouthbachchoir.uk/events/piano-rehearsal-for-june-2025-concert/
LOCATION:St Luke’s\, St Luke's Road\, Bournemouth\, BH3 7LR\, United Kingdom
CATEGORIES:Rehearsals
END:VEVENT
BEGIN:VEVENT
DTSTART;TZID=Europe/London:20250601T193000
DTEND;TZID=Europe/London:20250601T213000
DTSTAMP:20260422T105647
CREATED:20250114T092803Z
LAST-MODIFIED:20250114T092803Z
UID:7559-1748806200-1748813400@bournemouthbachchoir.uk
SUMMARY:rehearsal for June 2025 concert
DESCRIPTION:
URL:https://bournemouthbachchoir.uk/events/rehearsal-for-june-2025-concert-7/
LOCATION:St Luke’s\, St Luke's Road\, Bournemouth\, BH3 7LR\, United Kingdom
CATEGORIES:Rehearsals
END:VEVENT
BEGIN:VEVENT
DTSTART;TZID=Europe/London:20250518T193000
DTEND;TZID=Europe/London:20250518T213000
DTSTAMP:20260422T105647
CREATED:20250114T092737Z
LAST-MODIFIED:20250114T092737Z
UID:7557-1747596600-1747603800@bournemouthbachchoir.uk
SUMMARY:rehearsal for June 2025 concert
DESCRIPTION:
URL:https://bournemouthbachchoir.uk/events/rehearsal-for-june-2025-concert-6/
LOCATION:St Luke’s\, St Luke's Road\, Bournemouth\, BH3 7LR\, United Kingdom
CATEGORIES:Rehearsals
END:VEVENT
BEGIN:VEVENT
DTSTART;TZID=Europe/London:20250511T193000
DTEND;TZID=Europe/London:20250511T213000
DTSTAMP:20260422T105647
CREATED:20250114T092713Z
LAST-MODIFIED:20250114T092713Z
UID:7555-1746991800-1746999000@bournemouthbachchoir.uk
SUMMARY:rehearsal for June 2025 concert
DESCRIPTION:
URL:https://bournemouthbachchoir.uk/events/rehearsal-for-june-2025-concert-5/
LOCATION:St Luke’s\, St Luke's Road\, Bournemouth\, BH3 7LR\, United Kingdom
CATEGORIES:Rehearsals
END:VEVENT
BEGIN:VEVENT
DTSTART;TZID=Europe/London:20250504T193000
DTEND;TZID=Europe/London:20250504T213000
DTSTAMP:20260422T105647
CREATED:20250114T092648Z
LAST-MODIFIED:20250114T092648Z
UID:7553-1746387000-1746394200@bournemouthbachchoir.uk
SUMMARY:rehearsal for June 2025 concert
DESCRIPTION:
URL:https://bournemouthbachchoir.uk/events/rehearsal-for-june-2025-concert-4/
LOCATION:St Luke’s\, St Luke's Road\, Bournemouth\, BH3 7LR\, United Kingdom
CATEGORIES:Rehearsals
END:VEVENT
BEGIN:VEVENT
DTSTART;TZID=Europe/London:20250427T193000
DTEND;TZID=Europe/London:20250427T213000
DTSTAMP:20260422T105647
CREATED:20250114T092621Z
LAST-MODIFIED:20250114T092621Z
UID:7551-1745782200-1745789400@bournemouthbachchoir.uk
SUMMARY:rehearsal for June 2025 concert
DESCRIPTION:
URL:https://bournemouthbachchoir.uk/events/rehearsal-for-june-2025-concert-3/
LOCATION:St Luke’s\, St Luke's Road\, Bournemouth\, BH3 7LR\, United Kingdom
CATEGORIES:Rehearsals
END:VEVENT
BEGIN:VEVENT
DTSTART;TZID=Europe/London:20250330T193000
DTEND;TZID=Europe/London:20250330T213000
DTSTAMP:20260422T105647
CREATED:20250114T092551Z
LAST-MODIFIED:20250114T092551Z
UID:7549-1743363000-1743370200@bournemouthbachchoir.uk
SUMMARY:rehearsal for June 2025 concert
DESCRIPTION:
URL:https://bournemouthbachchoir.uk/events/rehearsal-for-june-2025-concert-2/
LOCATION:St Luke’s\, St Luke's Road\, Bournemouth\, BH3 7LR\, United Kingdom
CATEGORIES:Rehearsals
END:VEVENT
BEGIN:VEVENT
DTSTART;TZID=Europe/London:20250323T193000
DTEND;TZID=Europe/London:20250323T213000
DTSTAMP:20260422T105647
CREATED:20250114T092521Z
LAST-MODIFIED:20250114T092521Z
UID:7547-1742758200-1742765400@bournemouthbachchoir.uk
SUMMARY:rehearsal for June 2025 concert
DESCRIPTION:
URL:https://bournemouthbachchoir.uk/events/rehearsal-for-june-2025-concert/
LOCATION:St Luke’s\, St Luke's Road\, Bournemouth\, BH3 7LR\, United Kingdom
CATEGORIES:Rehearsals
END:VEVENT
BEGIN:VEVENT
DTSTART;TZID=Europe/London:20250309T193000
DTEND;TZID=Europe/London:20250309T213000
DTSTAMP:20260422T105647
CREATED:20241118T150316Z
LAST-MODIFIED:20241118T150316Z
UID:7518-1741548600-1741555800@bournemouthbachchoir.uk
SUMMARY:piano rehearsal for March 2025 concert
DESCRIPTION:
URL:https://bournemouthbachchoir.uk/events/piano-rehearsal-for-march-2025-concert/
LOCATION:St Luke’s Church Hall\, St Luke's Road\, Winton\, Bournemouth\, BH3 7LR
CATEGORIES:Rehearsals
END:VEVENT
BEGIN:VEVENT
DTSTART;TZID=Europe/London:20250302T193000
DTEND;TZID=Europe/London:20250302T213000
DTSTAMP:20260422T105647
CREATED:20241118T150233Z
LAST-MODIFIED:20241118T150233Z
UID:7516-1740943800-1740951000@bournemouthbachchoir.uk
SUMMARY:rehearsal for March 2025 concert
DESCRIPTION:
URL:https://bournemouthbachchoir.uk/events/rehearsal-for-march-2025-concert-7/
LOCATION:St Luke’s Church Hall\, St Luke's Road\, Winton\, Bournemouth\, BH3 7LR
CATEGORIES:Rehearsals
END:VEVENT
BEGIN:VEVENT
DTSTART;TZID=Europe/London:20250223T193000
DTEND;TZID=Europe/London:20250223T213000
DTSTAMP:20260422T105647
CREATED:20241118T150158Z
LAST-MODIFIED:20250113T110651Z
UID:7514-1740339000-1740346200@bournemouthbachchoir.uk
SUMMARY:rehearsal for March 2025 concert
DESCRIPTION:amended to 23/02 from 16/02 around half term
URL:https://bournemouthbachchoir.uk/events/rehearsal-for-march-2025-concert-6/
LOCATION:St Luke’s Church Hall\, St Luke's Road\, Winton\, Bournemouth\, BH3 7LR
CATEGORIES:Rehearsals
END:VEVENT
BEGIN:VEVENT
DTSTART;TZID=Europe/London:20250209T193000
DTEND;TZID=Europe/London:20250209T213000
DTSTAMP:20260422T105647
CREATED:20241118T150134Z
LAST-MODIFIED:20241118T150134Z
UID:7512-1739129400-1739136600@bournemouthbachchoir.uk
SUMMARY:rehearsal for March 2025 concert
DESCRIPTION:
URL:https://bournemouthbachchoir.uk/events/rehearsal-for-march-2025-concert-5/
LOCATION:St Luke’s Church Hall\, St Luke's Road\, Winton\, Bournemouth\, BH3 7LR
CATEGORIES:Rehearsals
END:VEVENT
BEGIN:VEVENT
DTSTART;TZID=Europe/London:20250202T193000
DTEND;TZID=Europe/London:20250202T213000
DTSTAMP:20260422T105647
CREATED:20241118T150105Z
LAST-MODIFIED:20241118T150105Z
UID:7510-1738524600-1738531800@bournemouthbachchoir.uk
SUMMARY:rehearsal for March 2025 concert
DESCRIPTION:
URL:https://bournemouthbachchoir.uk/events/rehearsal-for-march-2025-concert-4/
LOCATION:St Luke’s Church Hall\, St Luke's Road\, Winton\, Bournemouth\, BH3 7LR
CATEGORIES:Rehearsals
END:VEVENT
BEGIN:VEVENT
DTSTART;TZID=Europe/London:20250126T193000
DTEND;TZID=Europe/London:20250126T213000
DTSTAMP:20260422T105647
CREATED:20241118T150024Z
LAST-MODIFIED:20241118T150024Z
UID:7508-1737919800-1737927000@bournemouthbachchoir.uk
SUMMARY:rehearsal for March 2025 concert
DESCRIPTION:
URL:https://bournemouthbachchoir.uk/events/rehearsal-for-march-2025-concert-3/
LOCATION:St Luke’s Church Hall\, St Luke's Road\, Winton\, Bournemouth\, BH3 7LR
CATEGORIES:Rehearsals
END:VEVENT
BEGIN:VEVENT
DTSTART;TZID=Europe/London:20250119T193000
DTEND;TZID=Europe/London:20250119T213000
DTSTAMP:20260422T105647
CREATED:20241118T145900Z
LAST-MODIFIED:20241118T145900Z
UID:7506-1737315000-1737322200@bournemouthbachchoir.uk
SUMMARY:rehearsal for March 2025 concert
DESCRIPTION:
URL:https://bournemouthbachchoir.uk/events/rehearsal-for-march-2025-concert-2/
LOCATION:St Luke’s Church Hall\, St Luke's Road\, Winton\, Bournemouth\, BH3 7LR
CATEGORIES:Rehearsals
END:VEVENT
BEGIN:VEVENT
DTSTART;TZID=Europe/London:20250112T193000
DTEND;TZID=Europe/London:20250112T213000
DTSTAMP:20260422T105647
CREATED:20241118T145753Z
LAST-MODIFIED:20241118T150417Z
UID:7502-1736710200-1736717400@bournemouthbachchoir.uk
SUMMARY:rehearsal for March 2025 concert
DESCRIPTION:Concert Saturday 15th March 2025 in Christchurch Priory. \nSt John Passion \n using the Old Novello score\, edited Atkins. \nA small number of copies available to purchase from Carolyn at £5 each with Tim’s markings already in!
URL:https://bournemouthbachchoir.uk/events/rehearsal-for-march-2025-concert/
LOCATION:St Luke’s Church Hall\, St Luke's Road\, Winton\, Bournemouth\, BH3 7LR
CATEGORIES:Rehearsals
END:VEVENT
BEGIN:VEVENT
DTSTART;TZID=Europe/London:20241215T190000
DTEND;TZID=Europe/London:20241215T213000
DTSTAMP:20260422T105647
CREATED:20240909T142157Z
LAST-MODIFIED:20241209T090817Z
UID:7455-1734289200-1734298200@bournemouthbachchoir.uk
SUMMARY:Messiah piano rehearsal: fundraiser from 7pm\, rehearsal from 7:30pm
DESCRIPTION:We will be holding our usual Christmas Cake/ produce / gift sale/ Raffle on Sunday 15th December.\nAll donations of cakes/ jams etc. etc. gratefully received .\nWe will be starting early on the Sunday to allow time to look and purchase from 7pm.
URL:https://bournemouthbachchoir.uk/events/messiah-piano-rehearsal/
LOCATION:St Luke’s Church Hall\, St Luke's Road\, Winton\, Bournemouth\, BH3 7LR
CATEGORIES:Rehearsals
END:VEVENT
BEGIN:VEVENT
DTSTART;TZID=Europe/London:20241110T193000
DTEND;TZID=Europe/London:20241110T213000
DTSTAMP:20260422T105647
CREATED:20240909T142105Z
LAST-MODIFIED:20240909T184035Z
UID:7453-1731267000-1731274200@bournemouthbachchoir.uk
SUMMARY:rehearsal for November concert (piano rehearsal)
DESCRIPTION:
URL:https://bournemouthbachchoir.uk/events/rehearsal-for-november-concert-piano-rehearsal/
LOCATION:St Luke’s Church Hall\, St Luke's Road\, Winton\, Bournemouth\, BH3 7LR
CATEGORIES:Rehearsals
END:VEVENT
BEGIN:VEVENT
DTSTART;TZID=Europe/London:20241103T193000
DTEND;TZID=Europe/London:20241103T213000
DTSTAMP:20260422T105647
CREATED:20240909T142036Z
LAST-MODIFIED:20240909T184025Z
UID:7451-1730662200-1730669400@bournemouthbachchoir.uk
SUMMARY:rehearsal for November concert
DESCRIPTION:
URL:https://bournemouthbachchoir.uk/events/rehearsal-for-november-concert-14/
LOCATION:St Luke’s Church Hall\, St Luke's Road\, Winton\, Bournemouth\, BH3 7LR
CATEGORIES:Rehearsals
END:VEVENT
BEGIN:VEVENT
DTSTART;TZID=Europe/London:20241020T193000
DTEND;TZID=Europe/London:20241020T213000
DTSTAMP:20260422T105647
CREATED:20240909T142013Z
LAST-MODIFIED:20240909T184004Z
UID:7449-1729452600-1729459800@bournemouthbachchoir.uk
SUMMARY:rehearsal for November concert
DESCRIPTION:
URL:https://bournemouthbachchoir.uk/events/rehearsal-for-november-concert-13/
LOCATION:St Luke’s Church Hall\, St Luke's Road\, Winton\, Bournemouth\, BH3 7LR
CATEGORIES:Rehearsals
END:VEVENT
BEGIN:VEVENT
DTSTART;TZID=Europe/London:20241013T193000
DTEND;TZID=Europe/London:20241013T213000
DTSTAMP:20260422T105647
CREATED:20240909T141945Z
LAST-MODIFIED:20240909T183954Z
UID:7447-1728847800-1728855000@bournemouthbachchoir.uk
SUMMARY:rehearsal for November concert
DESCRIPTION:
URL:https://bournemouthbachchoir.uk/events/rehearsal-for-november-concert-12/
LOCATION:St Luke’s Church Hall\, St Luke's Road\, Winton\, Bournemouth\, BH3 7LR
CATEGORIES:Rehearsals
END:VEVENT
BEGIN:VEVENT
DTSTART;TZID=Europe/London:20241006T193000
DTEND;TZID=Europe/London:20241006T213000
DTSTAMP:20260422T105647
CREATED:20240909T141922Z
LAST-MODIFIED:20240909T183945Z
UID:7445-1728243000-1728250200@bournemouthbachchoir.uk
SUMMARY:rehearsal for November concert
DESCRIPTION:
URL:https://bournemouthbachchoir.uk/events/rehearsal-for-november-concert-11/
LOCATION:St Luke’s Church Hall\, St Luke's Road\, Winton\, Bournemouth\, BH3 7LR
CATEGORIES:Rehearsals
END:VEVENT
BEGIN:VEVENT
DTSTART;TZID=Europe/London:20240929T193000
DTEND;TZID=Europe/London:20240929T213000
DTSTAMP:20260422T105647
CREATED:20240909T141851Z
LAST-MODIFIED:20240909T183934Z
UID:7443-1727638200-1727645400@bournemouthbachchoir.uk
SUMMARY:rehearsal for November concert
DESCRIPTION:
URL:https://bournemouthbachchoir.uk/events/rehearsal-for-november-concert-10/
LOCATION:St Luke’s Church Hall\, St Luke's Road\, Winton\, Bournemouth\, BH3 7LR
CATEGORIES:Rehearsals
END:VEVENT
BEGIN:VEVENT
DTSTART;TZID=Europe/London:20240922T193000
DTEND;TZID=Europe/London:20240922T213000
DTSTAMP:20260422T105647
CREATED:20240909T141200Z
LAST-MODIFIED:20240909T183924Z
UID:7441-1727033400-1727040600@bournemouthbachchoir.uk
SUMMARY:rehearsal for November concert
DESCRIPTION:
URL:https://bournemouthbachchoir.uk/events/rehearsal-for-november-concert-9/
LOCATION:St Luke’s Church Hall\, St Luke's Road\, Winton\, Bournemouth\, BH3 7LR
CATEGORIES:Rehearsals
END:VEVENT
BEGIN:VEVENT
DTSTART;TZID=Europe/London:20240915T193000
DTEND;TZID=Europe/London:20240915T213000
DTSTAMP:20260422T105647
CREATED:20240909T141117Z
LAST-MODIFIED:20240909T183906Z
UID:7439-1726428600-1726435800@bournemouthbachchoir.uk
SUMMARY:rehearsal for November concert
DESCRIPTION:
URL:https://bournemouthbachchoir.uk/events/rehearsal-for-november-concert-8/
LOCATION:St Luke’s Church Hall\, St Luke's Road\, Winton\, Bournemouth\, BH3 7LR
CATEGORIES:Rehearsals
END:VEVENT
BEGIN:VEVENT
DTSTART;TZID=Europe/London:20240908T193000
DTEND;TZID=Europe/London:20240908T213000
DTSTAMP:20260422T105647
CREATED:20240205T200918Z
LAST-MODIFIED:20240205T200918Z
UID:7352-1725823800-1725831000@bournemouthbachchoir.uk
SUMMARY:Rehearsal for November concert
DESCRIPTION:
URL:https://bournemouthbachchoir.uk/events/rehearsal-november-concert/
LOCATION:St Luke’s Church Hall\, St Luke's Road\, Winton\, Bournemouth\, BH3 7LR
CATEGORIES:Rehearsals
END:VEVENT
BEGIN:VEVENT
DTSTART;TZID=Europe/London:20240630T193000
DTEND;TZID=Europe/London:20240630T213000
DTSTAMP:20260422T105647
CREATED:20240205T200747Z
LAST-MODIFIED:20240205T200747Z
UID:7350-1719775800-1719783000@bournemouthbachchoir.uk
SUMMARY:Piano rehearsal for July concert
DESCRIPTION:Compulsory: exemptions must be sought from Tim (MD) via Sue (attendance secretary)
URL:https://bournemouthbachchoir.uk/events/piano-rehearsal-for-july-concert/
LOCATION:St Luke’s Church Hall\, St Luke's Road\, Winton\, Bournemouth\, BH3 7LR
CATEGORIES:Rehearsals
END:VEVENT
BEGIN:VEVENT
DTSTART;TZID=Europe/London:20240623T193000
DTEND;TZID=Europe/London:20240623T213000
DTSTAMP:20260422T105647
CREATED:20240205T200559Z
LAST-MODIFIED:20240205T200559Z
UID:7348-1719171000-1719178200@bournemouthbachchoir.uk
SUMMARY:Rehearsal for July concert
DESCRIPTION:
URL:https://bournemouthbachchoir.uk/events/rehearsal-for-july-concert-8/
LOCATION:St Luke’s Church Hall\, St Luke's Road\, Winton\, Bournemouth\, BH3 7LR
CATEGORIES:Rehearsals
END:VEVENT
BEGIN:VEVENT
DTSTART;TZID=Europe/London:20240616T193000
DTEND;TZID=Europe/London:20240616T213000
DTSTAMP:20260422T105647
CREATED:20240205T200528Z
LAST-MODIFIED:20240205T200528Z
UID:7346-1718566200-1718573400@bournemouthbachchoir.uk
SUMMARY:Rehearsal for July concert
DESCRIPTION:
URL:https://bournemouthbachchoir.uk/events/rehearsal-for-july-concert-7/
LOCATION:St Luke’s Church Hall\, St Luke's Road\, Winton\, Bournemouth\, BH3 7LR
CATEGORIES:Rehearsals
END:VEVENT
END:VCALENDAR