BEGIN:VCALENDAR
VERSION:2.0
PRODID:-//Bournemouth Bach Choir - ECPv6.15.20//NONSGML v1.0//EN
CALSCALE:GREGORIAN
METHOD:PUBLISH
X-ORIGINAL-URL:https://bournemouthbachchoir.uk
X-WR-CALDESC:Events for Bournemouth Bach Choir
REFRESH-INTERVAL;VALUE=DURATION:PT1H
X-Robots-Tag:noindex
X-PUBLISHED-TTL:PT1H
BEGIN:VTIMEZONE
TZID:Europe/London
BEGIN:DAYLIGHT
TZOFFSETFROM:+0000
TZOFFSETTO:+0100
TZNAME:BST
DTSTART:20220327T010000
END:DAYLIGHT
BEGIN:STANDARD
TZOFFSETFROM:+0100
TZOFFSETTO:+0000
TZNAME:GMT
DTSTART:20221030T010000
END:STANDARD
BEGIN:DAYLIGHT
TZOFFSETFROM:+0000
TZOFFSETTO:+0100
TZNAME:BST
DTSTART:20230326T010000
END:DAYLIGHT
BEGIN:STANDARD
TZOFFSETFROM:+0100
TZOFFSETTO:+0000
TZNAME:GMT
DTSTART:20231029T010000
END:STANDARD
BEGIN:DAYLIGHT
TZOFFSETFROM:+0000
TZOFFSETTO:+0100
TZNAME:BST
DTSTART:20240331T010000
END:DAYLIGHT
BEGIN:STANDARD
TZOFFSETFROM:+0100
TZOFFSETTO:+0000
TZNAME:GMT
DTSTART:20241027T010000
END:STANDARD
END:VTIMEZONE
BEGIN:VEVENT
DTSTART;TZID=Europe/London:20230122T190000
DTEND;TZID=Europe/London:20230122T213000
DTSTAMP:20260424T014302
CREATED:20230120T161202Z
LAST-MODIFIED:20230120T161202Z
UID:7009-1674414000-1674423000@bournemouthbachchoir.uk
SUMMARY:Rehearsal for Handel Isreal in Egypt
DESCRIPTION:
URL:https://bournemouthbachchoir.uk/events/rehearsal-for-handel-isreal-in-egypt/
LOCATION:St Luke’s Church Hall\, St Luke's Road\, Winton\, Bournemouth\, BH3 7LR
CATEGORIES:Rehearsals
END:VEVENT
END:VCALENDAR